BEGIN:VCALENDAR
VERSION:2.0
PRODID:-//www.somersethistoricalcenter.org//NONSGML kigkonsult.se iCalcreat
 or 2.30.10//
CALSCALE:GREGORIAN
METHOD:PUBLISH
UID:29692dd4-d330-45a8-88e1-9f610275a210
X-WR-CALDESC:This workshop is taught by local tinsmith\, Roy Phillips. It i
 s an introduction to the Art of Tinning and designed to provide a beginnin
 g knowledge of 18th & 19th century tinning using manual construction tools
  and techniques. There is a variety of projects to choose from. Students w
 ill be able to construct up to seven reproduction items including a candle
 holder\, wall sconce\, typical pie cabinet picture\, side pour coffee pot\
 , one pint mug\, and more! Starting with a basic layout and pattern making
 \, participants will have instruction on the cutting\, forming\, and assem
 bly of their project.\n\nThis workshop is $125 for members and $150 for no
 n-members.
X-WR-RELCALID:9d7b787d3a9e37c016737041975a61b9
X-WR-TIMEZONE:America/Chicago
BEGIN:VTIMEZONE
TZID:America/Chicago
BEGIN:STANDARD
TZNAME:CST
DTSTART:20171105T020000
TZOFFSETFROM:-0500
TZOFFSETTO:-0600
RDATE:20181104T020000
END:STANDARD
BEGIN:DAYLIGHT
TZNAME:CDT
DTSTART:20180311T020000
TZOFFSETFROM:-0600
TZOFFSETTO:-0500
RDATE:20190310T020000
END:DAYLIGHT
END:VTIMEZONE
BEGIN:VEVENT
UID:e46163f3-047e-464d-9992-3665035b7895
DTSTAMP:20260425T152804Z
DESCRIPTION:This workshop is taught by local tinsmith\, Roy Phillips. It is
  an introduction to the Art of Tinning and designed to provide a beginning
  knowledge of 18th & 19th century tinning using manual construction tools 
 and techniques. There is a variety of projects to choose from. Students wi
 ll be able to construct up to seven reproduction items including a candleh
 older\, wall sconce\, typical pie cabinet picture\, side pour coffee pot\,
  one pint mug\, and more! Starting with a basic layout and pattern making\
 , participants will have instruction on the cutting\, forming\, and assemb
 ly of their project.\n\nThis workshop is $125 for members and $150 for non
 -members.
DTSTART;TZID=America/Chicago:20180317T080000
DTEND;TZID=America/Chicago:20180318T170000
LOCATION:
SUMMARY:Tinsmithing Workshop
END:VEVENT
END:VCALENDAR
