BEGIN:VCALENDAR
VERSION:2.0
PRODID:-//www.somersethistoricalcenter.org//NONSGML kigkonsult.se iCalcreat
 or 2.30.10//
CALSCALE:GREGORIAN
METHOD:PUBLISH
UID:b9ae824f-fe9b-4db0-b9bd-bdc17aa9f6f6
X-WR-CALDESC:Safe\, family-friendly trick-or-treating!\nStroll through the 
 Somerset Historical Center grounds along lantern lit paths\, visit histori
 c structures and talk to costumed interpreters\, and take a tractor-drawn 
 wagon ride through the woods at our Annual Historical Halloween. 'Catch' t
 he infamous Robber Lewis for a special treat!\nWe'll have fresh-pressed ap
 ple cider\, maple kettle corn\, and hot chocolate refreshments in the pavi
 lion when you're done trick-or-treating!\nAdmission is $3 per child
X-WR-RELCALID:443d88c6f83665dba6ac27ca58945182
X-WR-TIMEZONE:America/New_York
BEGIN:VTIMEZONE
TZID:America/New_York
BEGIN:STANDARD
TZNAME:EST
DTSTART:20201101T020000
TZOFFSETFROM:-0400
TZOFFSETTO:-0500
RDATE:20211107T020000
RDATE:20221106T020000
END:STANDARD
BEGIN:DAYLIGHT
TZNAME:EDT
DTSTART:20210314T020000
TZOFFSETFROM:-0500
TZOFFSETTO:-0400
RDATE:20220313T020000
RDATE:20230312T020000
END:DAYLIGHT
END:VTIMEZONE
BEGIN:VEVENT
UID:d840e1c1-67ef-422e-a512-7797f8ce316d
DTSTAMP:20260419T190232Z
DESCRIPTION:Safe\, family-friendly trick-or-treating!\nStroll through the S
 omerset Historical Center grounds along lantern lit paths\, visit historic
  structures and talk to costumed interpreters\, and take a tractor-drawn w
 agon ride through the woods at our Annual Historical Halloween. 'Catch' th
 e infamous Robber Lewis for a special treat!\nWe'll have fresh-pressed app
 le cider\, maple kettle corn\, and hot chocolate refreshments in the pavil
 ion when you're done trick-or-treating!\nAdmission is $3 per child
DTSTART;TZID=America/New_York:20211023T170000
DTEND;TZID=America/New_York:20211023T200000
LOCATION:Somerset Historical Center
SUMMARY:Historical Halloween
END:VEVENT
END:VCALENDAR
