BEGIN:VCALENDAR
VERSION:2.0
PRODID:-//www.somersethistoricalcenter.org//NONSGML kigkonsult.se iCalcreat
 or 2.30.10//
CALSCALE:GREGORIAN
METHOD:PUBLISH
UID:45583b9f-b308-40d5-8790-e9811c7c74ad
X-WR-CALDESC:The Historical and Genealogical Society of Somerset County is 
 pleased to announce the inaugural Christmas Craft Shoppe at the Somerset H
 istorical Center!\n\nFeaturing the work of local crafters and artisans\, t
 he Christmas Craft Shoppe is open Wednesday-Saturday 10:00am-4:00pm. \n\nS
 top in and see what they're offering and while you're here\, browse throug
 h the Somerset Historical Center Museum Shop. You are sure to find some un
 ique gifts this holiday season.!
X-WR-RELCALID:91b4093180782563e48bbc4ca31e853a
X-WR-TIMEZONE:America/New_York
BEGIN:VTIMEZONE
TZID:America/New_York
BEGIN:STANDARD
TZNAME:EST
DTSTART:20211107T020000
TZOFFSETFROM:-0400
TZOFFSETTO:-0500
RDATE:20221106T020000
END:STANDARD
BEGIN:DAYLIGHT
TZNAME:EDT
DTSTART:20210314T020000
TZOFFSETFROM:-0500
TZOFFSETTO:-0400
RDATE:20220313T020000
RDATE:20230312T020000
END:DAYLIGHT
END:VTIMEZONE
BEGIN:VEVENT
UID:77d24f8b-9734-4462-8e61-a2b58a207ba1
DTSTAMP:20260419T204442Z
DESCRIPTION:The Historical and Genealogical Society of Somerset County is p
 leased to announce the inaugural Christmas Craft Shoppe at the Somerset Hi
 storical Center!\n\nFeaturing the work of local crafters and artisans\, th
 e Christmas Craft Shoppe is open Wednesday-Saturday 10:00am-4:00pm. \n\nSt
 op in and see what they're offering and while you're here\, browse through
  the Somerset Historical Center Museum Shop. You are sure to find some uni
 que gifts this holiday season.!
DTSTART;TZID=America/New_York:20211127T000000
DTEND;TZID=America/New_York:20211222T235900
LOCATION:Somerset Historical Center
SUMMARY:Christmas Craft Shoppe
END:VEVENT
END:VCALENDAR
