BEGIN:VCALENDAR
VERSION:2.0
PRODID:-//www.somersethistoricalcenter.org//NONSGML kigkonsult.se iCalcreat
 or 2.30.10//
CALSCALE:GREGORIAN
METHOD:PUBLISH
UID:e637d6ca-65c5-46c7-aeb9-a3b68b6c87e7
X-WR-CALDESC:Living History Day with Company A of the 54th Pennsylvania Inf
 antry Civil War reenacting unit. \n\nLearn about soldier and civilian life
  in around 1860 in western Pennsylvania on the scenic grounds of the Somer
 set Historical Center.\n\n<strong>Schedule of Events</strong>\n*Due to the
  weather forecast\, we will not be able to do the firing demonstrations. A
 ctivities will be held primarily indoors in the Visitor Center.\n\n<em>Com
 pany A was created in 1992 when a group of American Civil War enthusiasts 
 started the unit to portray soldiers and civilians from their hometown of 
 Johnstown\, PA. Since then\, the organization has expanded well beyond the
  borders of Cambria County. The now consist of members from all over the M
 id-Atlantic region. They participate in numerous reenactments\, living his
 tories\, and school programs in Pennsylvania\, Maryland\, West Virginia\, 
 and Virginia.</em>
X-WR-RELCALID:572457a3be7614b778b4c7e7ebe8e92d
X-WR-TIMEZONE:America/New_York
BEGIN:VTIMEZONE
TZID:America/New_York
BEGIN:STANDARD
TZNAME:EST
DTSTART:20211107T020000
TZOFFSETFROM:-0400
TZOFFSETTO:-0500
RDATE:20221106T020000
RDATE:20231105T020000
END:STANDARD
BEGIN:DAYLIGHT
TZNAME:EDT
DTSTART:20220313T020000
TZOFFSETFROM:-0500
TZOFFSETTO:-0400
RDATE:20230312T020000
END:DAYLIGHT
END:VTIMEZONE
BEGIN:VEVENT
UID:3cf6bded-5245-44a0-9827-ba1770b70a1b
DTSTAMP:20260420T074952Z
DESCRIPTION:Living History Day with Company A of the 54th Pennsylvania Infa
 ntry Civil War reenacting unit. \n\nLearn about soldier and civilian life 
 in around 1860 in western Pennsylvania on the scenic grounds of the Somers
 et Historical Center.\n\n<strong>Schedule of Events</strong>\n*Due to the 
 weather forecast\, we will not be able to do the firing demonstrations. Ac
 tivities will be held primarily indoors in the Visitor Center.\n\n<em>Comp
 any A was created in 1992 when a group of American Civil War enthusiasts s
 tarted the unit to portray soldiers and civilians from their hometown of J
 ohnstown\, PA. Since then\, the organization has expanded well beyond the 
 borders of Cambria County. The now consist of members from all over the Mi
 d-Atlantic region. They participate in numerous reenactments\, living hist
 ories\, and school programs in Pennsylvania\, Maryland\, West Virginia\, a
 nd Virginia.</em>
DTSTART;TZID=America/New_York:20220507T090000
DTEND;TZID=America/New_York:20220507T150000
LOCATION:10649 Somerset Pike\, Somerset\, PA 15501 US
SUMMARY:Civil War Living History Day
END:VEVENT
END:VCALENDAR
