BEGIN:VCALENDAR
VERSION:2.0
PRODID:-//www.somersethistoricalcenter.org//NONSGML kigkonsult.se iCalcreat
 or 2.30.10//
CALSCALE:GREGORIAN
METHOD:PUBLISH
UID:2eb154f9-ddbb-4a85-8859-8bf040f1850c
X-WR-CALDESC:Join us on June 4 from 5:30p-8:30p a relaxing evening on the l
 awn with good local food and music. Some covered seating will be provided\
 , but feel free to bring your own lawn chairs and picnic blankets. Parking
  is <strong>$5.00</strong>\, but admission is Free. We will also have some
  family friendly games and tractor rides.\n\nWe are excited to be joined b
 y <a href='https://www.facebook.com/SouthPennCrossing/'>South Penn Crossin
 g.</a>\n\nFood available for purchase <a href='https://www.facebook.com/pa
 ppydbbq/'>Pappy D's</a> and <a href='https://www.skinnysbbq.net/'>Skinnys 
 BBQ</a>\n\n<em>Scheduled for the first Friday of the summer months of June
 \, July\, and August\, First Fridays are a relaxing evening filled with mu
 sic and food from local vendors. First Fridays are sponsored by the Histor
 ical and Genealogical Society of Somerset County. Free admission with a pa
 rking fee\, proceeds benefit the Historical and Genealogical Society of So
 merset County.</em>\n\n\n<strong><em>About the Music</em></strong>\n\nSout
 h Penn Crossing is a Bluegrass band from Somerset County. Comprised of Ken
  Scheffel\, Todd Dively\, Tony Arcuri\, Bill Shawley\, and Loretta Lindstr
 om. From mandolins to banjos\, this group brings their love of Bluegrass a
 nd Gospel together for an entertaining good time.\n\n<strong><em>About the
  Food</em></strong>\n\nSkinny’s bbq was established by Chad Dunmeyer in Se
 ptember 2021. While they've only been in business a few short months\, his
  food speaks volumes with his passion for cooking and making your taste bu
 ds water for more. While it’s always been a passion of his to create mouth
  watering food and watch people smile\, he was not able to follow my passi
 on until 2021. His goal is to create wonderful masterpieces that keep thei
 r customers happy\, along with experimenting to always supply them with ou
 r newest creation. \n\nSkinny’s bbq is set up to offer a concession traile
 r experience\, full catering service for any event and a party picnic menu
  that is specialized for graduation parties\, birthdays or a “just because
 ” party. \n\nTwo mottos for his business are:\n\n“Never trust a skinny coo
 k” and “I’ve got nothing to hide\, so I put my sauce on the side.”
X-WR-RELCALID:bc0f4469719493ee0b8810bd2cfb6659
X-WR-TIMEZONE:America/New_York
BEGIN:VTIMEZONE
TZID:America/New_York
BEGIN:STANDARD
TZNAME:EST
DTSTART:20211107T020000
TZOFFSETFROM:-0400
TZOFFSETTO:-0500
RDATE:20221106T020000
RDATE:20231105T020000
END:STANDARD
BEGIN:DAYLIGHT
TZNAME:EDT
DTSTART:20220313T020000
TZOFFSETFROM:-0500
TZOFFSETTO:-0400
RDATE:20230312T020000
END:DAYLIGHT
END:VTIMEZONE
BEGIN:VEVENT
UID:265e49ac-777e-4280-98a4-a845c406e5ad
DTSTAMP:20260420T081547Z
DESCRIPTION:Join us on June 4 from 5:30p-8:30p a relaxing evening on the la
 wn with good local food and music. Some covered seating will be provided\,
  but feel free to bring your own lawn chairs and picnic blankets. Parking 
 is <strong>$5.00</strong>\, but admission is Free. We will also have some 
 family friendly games and tractor rides.\n\nWe are excited to be joined by
  <a href='https://www.facebook.com/SouthPennCrossing/'>South Penn Crossing
 .</a>\n\nFood available for purchase <a href='https://www.facebook.com/pap
 pydbbq/'>Pappy D's</a> and <a href='https://www.skinnysbbq.net/'>Skinnys B
 BQ</a>\n\n<em>Scheduled for the first Friday of the summer months of June\
 , July\, and August\, First Fridays are a relaxing evening filled with mus
 ic and food from local vendors. First Fridays are sponsored by the Histori
 cal and Genealogical Society of Somerset County. Free admission with a par
 king fee\, proceeds benefit the Historical and Genealogical Society of Som
 erset County.</em>\n\n\n<strong><em>About the Music</em></strong>\n\nSouth
  Penn Crossing is a Bluegrass band from Somerset County. Comprised of Ken 
 Scheffel\, Todd Dively\, Tony Arcuri\, Bill Shawley\, and Loretta Lindstro
 m. From mandolins to banjos\, this group brings their love of Bluegrass an
 d Gospel together for an entertaining good time.\n\n<strong><em>About the 
 Food</em></strong>\n\nSkinny’s bbq was established by Chad Dunmeyer in Sep
 tember 2021. While they've only been in business a few short months\, his 
 food speaks volumes with his passion for cooking and making your taste bud
 s water for more. While it’s always been a passion of his to create mouth 
 watering food and watch people smile\, he was not able to follow my passio
 n until 2021. His goal is to create wonderful masterpieces that keep their
  customers happy\, along with experimenting to always supply them with our
  newest creation. \n\nSkinny’s bbq is set up to offer a concession trailer
  experience\, full catering service for any event and a party picnic menu 
 that is specialized for graduation parties\, birthdays or a “just because”
  party. \n\nTwo mottos for his business are:\n\n“Never trust a skinny cook
 ” and “I’ve got nothing to hide\, so I put my sauce on the side.”
DTSTART;TZID=America/New_York:20220603T173000
DTEND;TZID=America/New_York:20220603T203000
LOCATION:Somerset Historical Center
SUMMARY:First Fridays at the Somerset Historical Center
END:VEVENT
END:VCALENDAR
