BEGIN:VCALENDAR
VERSION:2.0
PRODID:-//www.somersethistoricalcenter.org//NONSGML kigkonsult.se iCalcreat
 or 2.30.10//
CALSCALE:GREGORIAN
METHOD:PUBLISH
UID:189eeb2f-c8a8-4809-a6e0-ed32ee0efd4f
X-WR-CALDESC:Annual Meeting of the Membership for the Historical and Geneal
 ogical Society of Somerset County. Join us for a historical program and he
 ar updates about what's going on at the Somerset Historical Center. Refres
 hments followed by a membership meeting to elect officers for the HGSSC Bo
 ard of Directors. Admission is FREE and open to the public\, you do NOT ne
 ed to be a Historical Society member to attend.\n\nFeaturing a presentatio
 n by Brady J. Crytzer\, author of the book <em>The Whiskey Rebellion: A Di
 stilled History of an American Crisis</em>\n\n<strong>About the Author</st
 rong>\nBrady J. Crytzer teaches history at Robert Morris University. A spe
 cialist in the Imperial History of North America\, Crytzer is the host of 
 the weekly hit podcast Dispatches: The Podcast of the Journal of the Ameri
 can Revolution. His work has been featured in the Journal of the American 
 Revolution\, Pennsylvania Heritage\, Game News\, and Muzzleloader Magazine
 . He is the author of “Battlefield Pennsylvania: A Guide to the Keystone S
 tate’s Most Sacred Ground” (2018).
X-WR-RELCALID:8112a989545efa819b87238bab0b5db6
X-WR-TIMEZONE:America/New_York
BEGIN:VTIMEZONE
TZID:America/New_York
BEGIN:STANDARD
TZNAME:EST
DTSTART:20231105T020000
TZOFFSETFROM:-0400
TZOFFSETTO:-0500
RDATE:20241103T020000
END:STANDARD
BEGIN:DAYLIGHT
TZNAME:EDT
DTSTART:20240310T020000
TZOFFSETFROM:-0500
TZOFFSETTO:-0400
RDATE:20250309T020000
END:DAYLIGHT
END:VTIMEZONE
BEGIN:VEVENT
UID:033c5a2f-c8b7-4a1f-b9ab-58f00ddba9fe
DTSTAMP:20260421T164454Z
DESCRIPTION:Annual Meeting of the Membership for the Historical and Genealo
 gical Society of Somerset County. Join us for a historical program and hea
 r updates about what's going on at the Somerset Historical Center. Refresh
 ments followed by a membership meeting to elect officers for the HGSSC Boa
 rd of Directors. Admission is FREE and open to the public\, you do NOT nee
 d to be a Historical Society member to attend.\n\nFeaturing a presentation
  by Brady J. Crytzer\, author of the book <em>The Whiskey Rebellion: A Dis
 tilled History of an American Crisis</em>\n\n<strong>About the Author</str
 ong>\nBrady J. Crytzer teaches history at Robert Morris University. A spec
 ialist in the Imperial History of North America\, Crytzer is the host of t
 he weekly hit podcast Dispatches: The Podcast of the Journal of the Americ
 an Revolution. His work has been featured in the Journal of the American R
 evolution\, Pennsylvania Heritage\, Game News\, and Muzzleloader Magazine.
  He is the author of “Battlefield Pennsylvania: A Guide to the Keystone St
 ate’s Most Sacred Ground” (2018).
DTSTART;TZID=America/New_York:20240401T180000
DTEND;TZID=America/New_York:20240401T200000
LOCATION:10649 Somerset Pike\, Somerset\, PA 15501 US
SUMMARY:HGSSC Annual Meeting
END:VEVENT
END:VCALENDAR
